BEGIN:VCALENDAR
VERSION:2.0
PRODID:-//St. Michael&#039;s Academy I Pre-K to Grade 5 - ECPv6.15.20//NONSGML v1.0//EN
CALSCALE:GREGORIAN
METHOD:PUBLISH
X-ORIGINAL-URL:https://st-michaelsacademy.org
X-WR-CALDESC:Events for St. Michael&#039;s Academy I Pre-K to Grade 5
REFRESH-INTERVAL;VALUE=DURATION:PT1H
X-Robots-Tag:noindex
X-PUBLISHED-TTL:PT1H
BEGIN:VTIMEZONE
TZID:America/New_York
BEGIN:DAYLIGHT
TZOFFSETFROM:-0500
TZOFFSETTO:-0400
TZNAME:EDT
DTSTART:20180311T070000
END:DAYLIGHT
BEGIN:STANDARD
TZOFFSETFROM:-0400
TZOFFSETTO:-0500
TZNAME:EST
DTSTART:20181104T060000
END:STANDARD
BEGIN:DAYLIGHT
TZOFFSETFROM:-0500
TZOFFSETTO:-0400
TZNAME:EDT
DTSTART:20190310T070000
END:DAYLIGHT
BEGIN:STANDARD
TZOFFSETFROM:-0400
TZOFFSETTO:-0500
TZNAME:EST
DTSTART:20191103T060000
END:STANDARD
BEGIN:DAYLIGHT
TZOFFSETFROM:-0500
TZOFFSETTO:-0400
TZNAME:EDT
DTSTART:20200308T070000
END:DAYLIGHT
BEGIN:STANDARD
TZOFFSETFROM:-0400
TZOFFSETTO:-0500
TZNAME:EST
DTSTART:20201101T060000
END:STANDARD
BEGIN:DAYLIGHT
TZOFFSETFROM:-0500
TZOFFSETTO:-0400
TZNAME:EDT
DTSTART:20210314T070000
END:DAYLIGHT
BEGIN:STANDARD
TZOFFSETFROM:-0400
TZOFFSETTO:-0500
TZNAME:EST
DTSTART:20211107T060000
END:STANDARD
END:VTIMEZONE
BEGIN:VEVENT
DTSTART;VALUE=DATE:20200825
DTEND;VALUE=DATE:20200826
DTSTAMP:20260423T225659
CREATED:20200727T140906Z
LAST-MODIFIED:20200727T140906Z
UID:3099-1598313600-1598399999@st-michaelsacademy.org
SUMMARY:First Day of School!
DESCRIPTION:
URL:https://st-michaelsacademy.org/event/first-day-of-school-4/
END:VEVENT
BEGIN:VEVENT
DTSTART;VALUE=DATE:20200525
DTEND;VALUE=DATE:20200526
DTSTAMP:20260423T225659
CREATED:20200207T173613Z
LAST-MODIFIED:20200207T173613Z
UID:3079-1590364800-1590451199@st-michaelsacademy.org
SUMMARY:Memorial Day Holiday - No School
DESCRIPTION:
URL:https://st-michaelsacademy.org/event/memorial-day-holiday-no-school/
END:VEVENT
BEGIN:VEVENT
DTSTART;VALUE=DATE:20200406
DTEND;VALUE=DATE:20200414
DTSTAMP:20260423T225659
CREATED:20200207T173534Z
LAST-MODIFIED:20200207T173534Z
UID:3077-1586131200-1586822399@st-michaelsacademy.org
SUMMARY:Easter Break
DESCRIPTION:
URL:https://st-michaelsacademy.org/event/easter-break-2/
END:VEVENT
BEGIN:VEVENT
DTSTART;VALUE=DATE:20200330
DTEND;VALUE=DATE:20200331
DTSTAMP:20260423T225659
CREATED:20200207T173245Z
LAST-MODIFIED:20200207T173436Z
UID:3073-1585526400-1585612799@st-michaelsacademy.org
SUMMARY:Teacher Workday (Optional Parent/Teacher Conf.) - No School
DESCRIPTION:
URL:https://st-michaelsacademy.org/event/teacher-workday-no-school-3/
END:VEVENT
BEGIN:VEVENT
DTSTART;TZID=America/New_York:20200307T140000
DTEND;TZID=America/New_York:20200307T160000
DTSTAMP:20260423T225659
CREATED:20200207T163214Z
LAST-MODIFIED:20200207T163214Z
UID:3044-1583589600-1583596800@st-michaelsacademy.org
SUMMARY:BINGO!!
DESCRIPTION:Mark your calendars! We are beyond excited about our next PTO event! Yes! You guessed it: BINGO!  Our annual BINGO event will take place on Saturday\, March 7th from 2-4 at Community Christian Fellowship Church (6317 Vint Hill Road\, Warrenton\, VA).
URL:https://st-michaelsacademy.org/event/bingo/
END:VEVENT
BEGIN:VEVENT
DTSTART;TZID=America/New_York:20200222T100000
DTEND;TZID=America/New_York:20200222T130000
DTSTAMP:20260423T225659
CREATED:20200120T153727Z
LAST-MODIFIED:20200120T153727Z
UID:2997-1582365600-1582376400@st-michaelsacademy.org
SUMMARY:Open House!
DESCRIPTION:We will be hosting our second OPEN HOUSE of 2020 on Saturday\, February 22 from 10:00am to 1:00pm at both campuses. We encourage every family to attend and meet the teachers for your child’s upcoming grades\, learn the curriculum\, and ask questions.  Our kindergarten staff will be on hand at our Vint Hill Campus to explain all that our program has to offer! Friends and neighbors are welcome too!
URL:https://st-michaelsacademy.org/event/open-house-5/
END:VEVENT
BEGIN:VEVENT
DTSTART;VALUE=DATE:20200217
DTEND;VALUE=DATE:20200218
DTSTAMP:20260423T225659
CREATED:20200207T173130Z
LAST-MODIFIED:20200207T173130Z
UID:3071-1581897600-1581983999@st-michaelsacademy.org
SUMMARY:President's Day - No School!
DESCRIPTION:
URL:https://st-michaelsacademy.org/event/presidents-day-no-school/
END:VEVENT
BEGIN:VEVENT
DTSTART;VALUE=DATE:20200129
DTEND;VALUE=DATE:20200130
DTSTAMP:20260423T225659
CREATED:20200118T151332Z
LAST-MODIFIED:20200118T151332Z
UID:2986-1580256000-1580342399@st-michaelsacademy.org
SUMMARY:2020/2021 Registration - New Families
DESCRIPTION:
URL:https://st-michaelsacademy.org/event/2020-2021-registration-new-families/
END:VEVENT
BEGIN:VEVENT
DTSTART;VALUE=DATE:20200127
DTEND;VALUE=DATE:20200128
DTSTAMP:20260423T225659
CREATED:20200120T162439Z
LAST-MODIFIED:20200120T162439Z
UID:3007-1580083200-1580169599@st-michaelsacademy.org
SUMMARY:Teacher Workday - No School
DESCRIPTION:
URL:https://st-michaelsacademy.org/event/teacher-workday-no-school-2/
END:VEVENT
BEGIN:VEVENT
DTSTART;VALUE=DATE:20200127
DTEND;VALUE=DATE:20200128
DTSTAMP:20260423T225659
CREATED:20200118T151248Z
LAST-MODIFIED:20200118T151248Z
UID:2984-1580083200-1580169599@st-michaelsacademy.org
SUMMARY:2020/2021 Registration - Current Families
DESCRIPTION:
URL:https://st-michaelsacademy.org/event/2020-2021-registration-current-families/
END:VEVENT
BEGIN:VEVENT
DTSTART;TZID=America/New_York:20200125T100000
DTEND;TZID=America/New_York:20200125T130000
DTSTAMP:20260423T225659
CREATED:20200118T151133Z
LAST-MODIFIED:20200118T151133Z
UID:2982-1579946400-1579957200@st-michaelsacademy.org
SUMMARY:Open House!
DESCRIPTION:We will be hosting our first OPEN HOUSE of 2020 on Saturday\, January 25th from 10:00am to 1:00pm at both campuses. We encourage every family to attend and meet the teachers for your child’s upcoming grades\, learn the curriculum\, and ask questions.  Our kindergarten staff will be on hand at our Vint Hill Campus to explain all that our program has to offer! Friends and neighbors are welcome too!
URL:https://st-michaelsacademy.org/event/open-house-4/
END:VEVENT
BEGIN:VEVENT
DTSTART;TZID=America/New_York:20200124T123000
DTEND;TZID=America/New_York:20200124T123000
DTSTAMP:20260423T225659
CREATED:20200118T151739Z
LAST-MODIFIED:20200118T151739Z
UID:2992-1579869000-1579869000@st-michaelsacademy.org
SUMMARY:Half Day Kindergarten / Elementary - Mandatory Kindergarten Conferences in PM
DESCRIPTION:Preschool open with optional conferences scheduled after 12:30pm. No aftercare. Kindergarten / Elementary closed at 12:30pm for mandatory kindergarten conferences in PM. Optional Parent-Teacher conferences all other grades. Childcare available for St. Michael’s students only (no siblings) and only for the duration of the conference.
URL:https://st-michaelsacademy.org/event/half-day-kindergarten-elementary-mandatory-kindergarten-conferences-in-pm/
END:VEVENT
BEGIN:VEVENT
DTSTART;TZID=America/New_York:20200121T183000
DTEND;TZID=America/New_York:20200121T203000
DTSTAMP:20260423T225659
CREATED:20200118T151458Z
LAST-MODIFIED:20200118T151458Z
UID:2990-1579631400-1579638600@st-michaelsacademy.org
SUMMARY:PTO Meeting- Vint Hill Campus
DESCRIPTION:
URL:https://st-michaelsacademy.org/event/pto-meeting-vint-hill-campus-2/
END:VEVENT
BEGIN:VEVENT
DTSTART;VALUE=DATE:20200120
DTEND;VALUE=DATE:20200121
DTSTAMP:20260423T225659
CREATED:20200118T151404Z
LAST-MODIFIED:20200118T151404Z
UID:2988-1579478400-1579564799@st-michaelsacademy.org
SUMMARY:Martin Luther King\, Jr. Day – School Closed
DESCRIPTION:
URL:https://st-michaelsacademy.org/event/martin-luther-king-jr-day-school-closed/
END:VEVENT
BEGIN:VEVENT
DTSTART;VALUE=DATE:20191223
DTEND;VALUE=DATE:20200104
DTSTAMP:20260423T225659
CREATED:20191211T135402Z
LAST-MODIFIED:20191211T135402Z
UID:2967-1577059200-1578095999@st-michaelsacademy.org
SUMMARY:Christmas Break!
DESCRIPTION:
URL:https://st-michaelsacademy.org/event/christmas-break-2/
END:VEVENT
BEGIN:VEVENT
DTSTART;TZID=America/New_York:20191219T180000
DTEND;TZID=America/New_York:20191219T190000
DTSTAMP:20260423T225659
CREATED:20191211T134416Z
LAST-MODIFIED:20191211T134416Z
UID:2955-1576778400-1576782000@st-michaelsacademy.org
SUMMARY:Elementary Christmas Programs
DESCRIPTION:Our Elementary Christmas Program will  be  held at Community Christian Fellowship Church on Thursday\, December 19th at 6:00pm.  Please arrive by 5:45pm in your Christmas Sunday best outfit!
URL:https://st-michaelsacademy.org/event/elementary-christmas-programs/
END:VEVENT
BEGIN:VEVENT
DTSTART;TZID=America/New_York:20191217T183000
DTEND;TZID=America/New_York:20191217T193000
DTSTAMP:20260423T225659
CREATED:20191211T135123Z
LAST-MODIFIED:20191211T135123Z
UID:2963-1576607400-1576611000@st-michaelsacademy.org
SUMMARY:Pre-K4 Christmas Program (Mrs. Booker and Ms. Buffington’s Class)
DESCRIPTION:We will be holding Mrs. Booker and Ms. Buffington’s Class Class Pre-K4 Class Preschool Christmas Programs at St. Paul’s Church on Tuesday\, December 17th  at 6:30pm.
URL:https://st-michaelsacademy.org/event/pre-k4-christmas-program-mrs-booker-and-ms-buffingtons-class/
END:VEVENT
BEGIN:VEVENT
DTSTART;TZID=America/New_York:20191217T173000
DTEND;TZID=America/New_York:20191217T183000
DTSTAMP:20260423T225659
CREATED:20191211T135007Z
LAST-MODIFIED:20191211T135151Z
UID:2961-1576603800-1576607400@st-michaelsacademy.org
SUMMARY:Pre-K4 Christmas Program (Ms. Stevens' and Mrs. Wacker's Class)
DESCRIPTION:We will be holding Ms. Stevens’ and Mrs. Wacker’s Class Pre-K4 Class Preschool Christmas Programs at St. Paul’s Church on Tuesday\, December 17th  at 5:30pm.
URL:https://st-michaelsacademy.org/event/preschool-christmas-program-ms-stevens-and-mrs-wackers-class/
END:VEVENT
BEGIN:VEVENT
DTSTART;TZID=America/New_York:20191216T183000
DTEND;TZID=America/New_York:20191216T193000
DTSTAMP:20260423T225659
CREATED:20191211T134822Z
LAST-MODIFIED:20191211T140243Z
UID:2959-1576521000-1576524600@st-michaelsacademy.org
SUMMARY:Pre-K3 Christmas Program (Mrs. Gonzalez’s Classes)
DESCRIPTION:We will be holding Mrs. Gonzalez’s Pre-K3 Classes Preschool Christmas Programs at St. Paul’s Church on Monday\, December 16th  at 6:30pm.
URL:https://st-michaelsacademy.org/event/preschool-christmas-program-mrs-gonzalezs-pre-k3-classes/
END:VEVENT
BEGIN:VEVENT
DTSTART;TZID=America/New_York:20191216T173000
DTEND;TZID=America/New_York:20191216T183000
DTSTAMP:20260423T225659
CREATED:20191211T134704Z
LAST-MODIFIED:20191211T134704Z
UID:2957-1576517400-1576521000@st-michaelsacademy.org
SUMMARY:Pre-K3 Christmas Program (Ms. Jordan's Classes)
DESCRIPTION:We will be holding Ms. Jordan’s Pre-K3 Classes Preschool Christmas Programs at St. Paul’s Church on Monday\, December 16th  at 5:30pm.
URL:https://st-michaelsacademy.org/event/pre-k3-christmas-program-ms-jordans-classes/
END:VEVENT
BEGIN:VEVENT
DTSTART;VALUE=DATE:20191212
DTEND;VALUE=DATE:20191213
DTSTAMP:20260423T225659
CREATED:20190927T155808Z
LAST-MODIFIED:20190927T155808Z
UID:2902-1576108800-1576195199@st-michaelsacademy.org
SUMMARY:Spirit Night-MOD Pizza
DESCRIPTION:
URL:https://st-michaelsacademy.org/event/spirit-night-mod-pizza/
END:VEVENT
BEGIN:VEVENT
DTSTART;VALUE=DATE:20191127
DTEND;VALUE=DATE:20191130
DTSTAMP:20260423T225659
CREATED:20190927T155708Z
LAST-MODIFIED:20190927T155728Z
UID:2900-1574812800-1575071999@st-michaelsacademy.org
SUMMARY:Thanksgiving Break - No School
DESCRIPTION:
URL:https://st-michaelsacademy.org/event/thanksgiving-break-no-school/
END:VEVENT
BEGIN:VEVENT
DTSTART;VALUE=DATE:20191115
DTEND;VALUE=DATE:20191116
DTSTAMP:20260423T225659
CREATED:20190927T155454Z
LAST-MODIFIED:20190927T155621Z
UID:2896-1573776000-1573862399@st-michaelsacademy.org
SUMMARY:Spirit Night- Potbelly
DESCRIPTION:
URL:https://st-michaelsacademy.org/event/veterans-day-no-school/
END:VEVENT
BEGIN:VEVENT
DTSTART;TZID=America/New_York:20191113T160000
DTEND;TZID=America/New_York:20191113T170000
DTSTAMP:20260423T225659
CREATED:20191109T021214Z
LAST-MODIFIED:20191109T021214Z
UID:2953-1573660800-1573664400@st-michaelsacademy.org
SUMMARY:Ribbon Cutting Ceremony - Vint Hill Campus
DESCRIPTION:We are very excited to announce we will be having a Ribbon Cutting Ceremony on Wednesday\, November 13th with the Fauquier Camber of Commerce at our new elementary location in Vint Hill.  It will take place at 4:00pm after car line and we are extending an invitation to all of our school families.  We hope this will mark the beginning of many fruitful years in Vint HIll educating tommorow’s future leaders and teaching our students about God’s love for them.
URL:https://st-michaelsacademy.org/event/ribbon-cutting-ceremony-vint-hill-campus/
END:VEVENT
BEGIN:VEVENT
DTSTART;VALUE=DATE:20191105
DTEND;VALUE=DATE:20191106
DTSTAMP:20260423T225659
CREATED:20190927T155423Z
LAST-MODIFIED:20190927T155423Z
UID:2894-1572912000-1572998399@st-michaelsacademy.org
SUMMARY:Parent-Teacher Conferences/No School
DESCRIPTION:
URL:https://st-michaelsacademy.org/event/parent-teacher-conferences-no-school/
END:VEVENT
BEGIN:VEVENT
DTSTART;VALUE=DATE:20191104
DTEND;VALUE=DATE:20191105
DTSTAMP:20260423T225659
CREATED:20190927T155355Z
LAST-MODIFIED:20190927T155355Z
UID:2892-1572825600-1572911999@st-michaelsacademy.org
SUMMARY:Teacher Work Day-No School
DESCRIPTION:
URL:https://st-michaelsacademy.org/event/teacher-work-day-no-school-2/
END:VEVENT
BEGIN:VEVENT
DTSTART;TZID=America/New_York:20191102T170000
DTEND;TZID=America/New_York:20191102T190000
DTSTAMP:20260423T225659
CREATED:20191005T151506Z
LAST-MODIFIED:20191026T134403Z
UID:2916-1572714000-1572721200@st-michaelsacademy.org
SUMMARY:Trunk-or-Treat (New Vint Hill Campus)
DESCRIPTION:Put on your costume\, and join us for St. Michael’s family friendly Truck-or-Treat! Bring your family out for an evening of candy\, crafts\, games\, and more. This is a safe and fun community Halloween event\, with something for everyone! Food will be available for purchase. Admission is one canned food item per person. Donations will be given to our local food pantry. \n 
URL:https://st-michaelsacademy.org/event/trunk-or-treat-new-vint-hill-campus/
END:VEVENT
BEGIN:VEVENT
DTSTART;VALUE=DATE:20191101
DTEND;VALUE=DATE:20191102
DTSTAMP:20260423T225659
CREATED:20190927T155103Z
LAST-MODIFIED:20190927T155218Z
UID:2885-1572566400-1572652799@st-michaelsacademy.org
SUMMARY:PTO Fun Run
DESCRIPTION:
URL:https://st-michaelsacademy.org/event/spirit-night-skate-n-fun-zone-2/
END:VEVENT
BEGIN:VEVENT
DTSTART;VALUE=DATE:20191031
DTEND;VALUE=DATE:20191101
DTSTAMP:20260423T225659
CREATED:20191007T154228Z
LAST-MODIFIED:20191007T154228Z
UID:2934-1572480000-1572566399@st-michaelsacademy.org
SUMMARY:Fall Photos!
DESCRIPTION:
URL:https://st-michaelsacademy.org/event/fall-photos/
END:VEVENT
BEGIN:VEVENT
DTSTART;VALUE=DATE:20191021
DTEND;VALUE=DATE:20191022
DTSTAMP:20260423T225659
CREATED:20191007T154155Z
LAST-MODIFIED:20191007T154155Z
UID:2932-1571616000-1571702399@st-michaelsacademy.org
SUMMARY:Fun Run Pep Rally!
DESCRIPTION:
URL:https://st-michaelsacademy.org/event/fun-run-pep-rally-2/
END:VEVENT
END:VCALENDAR