BEGIN:VCALENDAR
VERSION:2.0
PRODID:-//St. Michael&#039;s Academy I Pre-K to Grade 5 - ECPv6.15.20//NONSGML v1.0//EN
CALSCALE:GREGORIAN
METHOD:PUBLISH
X-ORIGINAL-URL:https://st-michaelsacademy.org
X-WR-CALDESC:Events for St. Michael&#039;s Academy I Pre-K to Grade 5
REFRESH-INTERVAL;VALUE=DURATION:PT1H
X-Robots-Tag:noindex
X-PUBLISHED-TTL:PT1H
BEGIN:VTIMEZONE
TZID:UTC
BEGIN:STANDARD
TZOFFSETFROM:+0000
TZOFFSETTO:+0000
TZNAME:UTC
DTSTART:20170101T000000
END:STANDARD
END:VTIMEZONE
BEGIN:VTIMEZONE
TZID:America/New_York
BEGIN:DAYLIGHT
TZOFFSETFROM:-0500
TZOFFSETTO:-0400
TZNAME:EDT
DTSTART:20170312T070000
END:DAYLIGHT
BEGIN:STANDARD
TZOFFSETFROM:-0400
TZOFFSETTO:-0500
TZNAME:EST
DTSTART:20171105T060000
END:STANDARD
BEGIN:DAYLIGHT
TZOFFSETFROM:-0500
TZOFFSETTO:-0400
TZNAME:EDT
DTSTART:20180311T070000
END:DAYLIGHT
BEGIN:STANDARD
TZOFFSETFROM:-0400
TZOFFSETTO:-0500
TZNAME:EST
DTSTART:20181104T060000
END:STANDARD
BEGIN:DAYLIGHT
TZOFFSETFROM:-0500
TZOFFSETTO:-0400
TZNAME:EDT
DTSTART:20190310T070000
END:DAYLIGHT
BEGIN:STANDARD
TZOFFSETFROM:-0400
TZOFFSETTO:-0500
TZNAME:EST
DTSTART:20191103T060000
END:STANDARD
END:VTIMEZONE
BEGIN:VEVENT
DTSTART;VALUE=DATE:20181106
DTEND;VALUE=DATE:20181107
DTSTAMP:20260424T132752
CREATED:20181024T220900Z
LAST-MODIFIED:20181024T220900Z
UID:2048-1541462400-1541548799@st-michaelsacademy.org
SUMMARY:No School - Teacher Work Day / Mandatory Parent - Teacher Conferences
DESCRIPTION:Child care available for St. Michael’s students only (no siblings) and only for the duration of the conference.
URL:https://st-michaelsacademy.org/event/no-school-teacher-work-day-mandatory-parent-teacher-conferences-2/
END:VEVENT
BEGIN:VEVENT
DTSTART;VALUE=DATE:20181105
DTEND;VALUE=DATE:20181106
DTSTAMP:20260424T132752
CREATED:20181024T220802Z
LAST-MODIFIED:20181024T220802Z
UID:2046-1541376000-1541462399@st-michaelsacademy.org
SUMMARY:No School - Teacher Work Day / Mandatory Parent-Teacher Conferences
DESCRIPTION:Child care available for St. Michael’s students only (no siblings) and only for the duration of the conference.
URL:https://st-michaelsacademy.org/event/no-school-teacher-work-day-mandatory-parent-teacher-conferences/
END:VEVENT
BEGIN:VEVENT
DTSTART;VALUE=DATE:20181102
DTEND;VALUE=DATE:20181103
DTSTAMP:20260424T132752
CREATED:20181024T220518Z
LAST-MODIFIED:20181024T220518Z
UID:2044-1541116800-1541203199@st-michaelsacademy.org
SUMMARY:End of First Quarter
DESCRIPTION:
URL:https://st-michaelsacademy.org/event/end-of-first-quarter-2/
END:VEVENT
BEGIN:VEVENT
DTSTART;VALUE=DATE:20181101
DTEND;VALUE=DATE:20181201
DTSTAMP:20260424T132752
CREATED:20181030T021211Z
LAST-MODIFIED:20181030T021211Z
UID:2224-1541030400-1543622399@st-michaelsacademy.org
SUMMARY:Raise Craze Fundraiser
DESCRIPTION:The Raise Craze runs November 1 – 30\, 2018. Fundraising Through Kindness!
URL:https://st-michaelsacademy.org/event/raise-craze-fundraiser/
END:VEVENT
BEGIN:VEVENT
DTSTART;TZID=America/New_York:20181030T160000
DTEND;TZID=America/New_York:20181030T200000
DTSTAMP:20260424T132752
CREATED:20181026T171420Z
LAST-MODIFIED:20181026T171654Z
UID:2143-1540915200-1540929600@st-michaelsacademy.org
SUMMARY:Spirit Night at Chipotle!
DESCRIPTION:Mark your calendars to forget about cooking dinner and joining St. Michael’s Academy for a Spirit Night on Tuesday\, October 30th at the Gainesville Chipolte from 4:00pm- 8:00pm!  We will get to keep 33% of what is spent on dining using the Chipolte Spirit Night Flyer!
URL:https://st-michaelsacademy.org/event/st-michaels-academy-for-a-spirit-night-chipolte/
END:VEVENT
BEGIN:VEVENT
DTSTART;TZID=UTC:20181020T160000
DTEND;TZID=UTC:20181020T180000
DTSTAMP:20260424T132752
CREATED:20181024T223622Z
LAST-MODIFIED:20181024T223622Z
UID:2083-1540051200-1540058400@st-michaelsacademy.org
SUMMARY:Fall Festival - Vint Hill Campus
DESCRIPTION:
URL:https://st-michaelsacademy.org/event/fall-festival-vint-hill-campus/
END:VEVENT
BEGIN:VEVENT
DTSTART;VALUE=DATE:20180607
DTEND;VALUE=DATE:20180608
DTSTAMP:20260424T132752
CREATED:20170814T032835Z
LAST-MODIFIED:20170814T032835Z
UID:1537-1528329600-1528415999@st-michaelsacademy.org
SUMMARY:Last Day of School
DESCRIPTION:End of Fourth Quarter\, last day of school; dismissal at noon (Pre-K2\, Pre-K3) and 12:30 (Pre-K4 & older)\, NO aftercare\, NO lunch \nHave a great summer!
URL:https://st-michaelsacademy.org/event/last-day-of-school/
END:VEVENT
BEGIN:VEVENT
DTSTART;TZID=UTC:20180601T160000
DTEND;TZID=UTC:20180601T180000
DTSTAMP:20260424T132752
CREATED:20170814T032653Z
LAST-MODIFIED:20170814T032653Z
UID:1535-1527868800-1527876000@st-michaelsacademy.org
SUMMARY:Graduation Ceremonies
DESCRIPTION:Graduation Ceremonies – specific dates / times / classes TBD
URL:https://st-michaelsacademy.org/event/graduation-ceremonies/
END:VEVENT
BEGIN:VEVENT
DTSTART;VALUE=DATE:20180528
DTEND;VALUE=DATE:20180529
DTSTAMP:20260424T132752
CREATED:20170814T032523Z
LAST-MODIFIED:20170814T032523Z
UID:1533-1527465600-1527551999@st-michaelsacademy.org
SUMMARY:Memorial Day Holiday
DESCRIPTION:School Closed
URL:https://st-michaelsacademy.org/event/memorial-day-holiday/
END:VEVENT
BEGIN:VEVENT
DTSTART;VALUE=DATE:20180525
DTEND;VALUE=DATE:20180526
DTSTAMP:20260424T132752
CREATED:20170814T032404Z
LAST-MODIFIED:20170814T032415Z
UID:1531-1527206400-1527292799@st-michaelsacademy.org
SUMMARY:Field Day
DESCRIPTION:Field Day (Rain date: June 1 F) \nElementary: 8:30 a.m. – 3:00 p.m. at Vint Hill Sparks campus \nPreschool: 9:00 a.m. – 12:00 p.m. at Fayette
URL:https://st-michaelsacademy.org/event/field-day/
END:VEVENT
BEGIN:VEVENT
DTSTART;TZID=America/New_York:20180512T160000
DTEND;TZID=America/New_York:20180512T180000
DTSTAMP:20260424T132752
CREATED:20170814T032107Z
LAST-MODIFIED:20180501T184551Z
UID:1527-1526140800-1526148000@st-michaelsacademy.org
SUMMARY:Mother-Son Square Dance
DESCRIPTION:Mother-Son Square Dance!
URL:https://st-michaelsacademy.org/event/mother-son-square-dance/
LOCATION:Sparks Camups\, 6317 Vint Hill Rd\, Warrenton\, Virginia\, 20187\, United States
END:VEVENT
BEGIN:VEVENT
DTSTART;TZID=America/New_York:20180508T183000
DTEND;TZID=America/New_York:20180508T193000
DTSTAMP:20260424T132752
CREATED:20170814T031958Z
LAST-MODIFIED:20180501T184628Z
UID:1525-1525804200-1525807800@st-michaelsacademy.org
SUMMARY:PTO Meeting
DESCRIPTION:PTO meeting in Vint Hill Sparks lunchroom
URL:https://st-michaelsacademy.org/event/pto-meeting-8/
END:VEVENT
BEGIN:VEVENT
DTSTART;VALUE=DATE:20180507
DTEND;VALUE=DATE:20180508
DTSTAMP:20260424T132752
CREATED:20170814T032227Z
LAST-MODIFIED:20170814T032227Z
UID:1529-1525651200-1525651200@st-michaelsacademy.org
SUMMARY:Teacher Appreciation Week
DESCRIPTION:Teacher Appreciation Week
URL:https://st-michaelsacademy.org/event/teacher-appreciation-week/
END:VEVENT
BEGIN:VEVENT
DTSTART;TZID=America/New_York:20180428T130000
DTEND;TZID=America/New_York:20180428T150000
DTSTAMP:20260424T132752
CREATED:20170814T031805Z
LAST-MODIFIED:20170814T031805Z
UID:1523-1524920400-1524927600@st-michaelsacademy.org
SUMMARY:Fine Arts Celebration
DESCRIPTION:Fine Arts Celebration
URL:https://st-michaelsacademy.org/event/fine-arts-celebration/
END:VEVENT
BEGIN:VEVENT
DTSTART;VALUE=DATE:20180416
DTEND;VALUE=DATE:20180417
DTSTAMP:20260424T132752
CREATED:20170814T031652Z
LAST-MODIFIED:20170814T031652Z
UID:1521-1523836800-1523923199@st-michaelsacademy.org
SUMMARY:Teacher Work Day
DESCRIPTION:School Closed for Teacher Work Day / Optional Parent-Teacher Conferences. Child care not provided.
URL:https://st-michaelsacademy.org/event/teacher-work-day/
END:VEVENT
BEGIN:VEVENT
DTSTART;VALUE=DATE:20180413
DTEND;VALUE=DATE:20180414
DTSTAMP:20260424T132752
CREATED:20170814T031541Z
LAST-MODIFIED:20170814T031541Z
UID:1519-1523577600-1523663999@st-michaelsacademy.org
SUMMARY:End of Third Quarter
DESCRIPTION:End of Third Quarter
URL:https://st-michaelsacademy.org/event/end-of-third-quarter/
END:VEVENT
BEGIN:VEVENT
DTSTART;VALUE=DATE:20180404
DTEND;VALUE=DATE:20180407
DTSTAMP:20260424T132752
CREATED:20170814T031437Z
LAST-MODIFIED:20170814T031437Z
UID:1517-1522800000-1523059199@st-michaelsacademy.org
SUMMARY:Spring Photos
DESCRIPTION:Spring Photos (dress\, non-uniform)
URL:https://st-michaelsacademy.org/event/spring-photos/
END:VEVENT
BEGIN:VEVENT
DTSTART;TZID=America/New_York:20180403T173000
DTEND;TZID=America/New_York:20180403T193000
DTSTAMP:20260424T132752
CREATED:20170814T031251Z
LAST-MODIFIED:20170814T031317Z
UID:1515-1522776600-1522783800@st-michaelsacademy.org
SUMMARY:PTO meeting
DESCRIPTION:PTO meeting in Vint Hill Sparks lunchroom
URL:https://st-michaelsacademy.org/event/pto-meeting-7/
END:VEVENT
BEGIN:VEVENT
DTSTART;VALUE=DATE:20180401
DTEND;VALUE=DATE:20180402
DTSTAMP:20260424T132752
CREATED:20170816T061242Z
LAST-MODIFIED:20170816T061242Z
UID:1714-1522540800-1522627199@st-michaelsacademy.org
SUMMARY:Easter Sunday
DESCRIPTION:He is Risen!
URL:https://st-michaelsacademy.org/event/easter-sunday/
END:VEVENT
BEGIN:VEVENT
DTSTART;VALUE=DATE:20180326
DTEND;VALUE=DATE:20180331
DTSTAMP:20260424T132752
CREATED:20170814T031105Z
LAST-MODIFIED:20170814T031105Z
UID:1513-1522022400-1522454399@st-michaelsacademy.org
SUMMARY:Easter Break
DESCRIPTION:School Closed!
URL:https://st-michaelsacademy.org/event/easter-break/
END:VEVENT
BEGIN:VEVENT
DTSTART;VALUE=DATE:20180317
DTEND;VALUE=DATE:20180318
DTSTAMP:20260424T132752
CREATED:20170814T030914Z
LAST-MODIFIED:20170814T030914Z
UID:1511-1521244800-1521331199@st-michaelsacademy.org
SUMMARY:Multi-Cultural Festival
DESCRIPTION:Multi-Cultural Festival
URL:https://st-michaelsacademy.org/event/multi-cultural-festival/
END:VEVENT
BEGIN:VEVENT
DTSTART;VALUE=DATE:20180309
DTEND;VALUE=DATE:20180310
DTSTAMP:20260424T132752
CREATED:20170814T030736Z
LAST-MODIFIED:20170814T030804Z
UID:1509-1520553600-1520639999@st-michaelsacademy.org
SUMMARY:Elementary Science Fair grades 4-5\, 3rd grade optional
DESCRIPTION:Elementary Science Fair grades 4-5\, 3rd grade optional
URL:https://st-michaelsacademy.org/event/elementary-science-fair-grades-4-5-3rd-grade-optional/
LOCATION:Sparks Camups\, 6317 Vint Hill Rd\, Warrenton\, Virginia\, 20187\, United States
END:VEVENT
BEGIN:VEVENT
DTSTART;TZID=America/New_York:20180306T183000
DTEND;TZID=America/New_York:20180306T193000
DTSTAMP:20260424T132752
CREATED:20170814T030610Z
LAST-MODIFIED:20170814T030622Z
UID:1507-1520361000-1520364600@st-michaelsacademy.org
SUMMARY:PTO Meeting
DESCRIPTION:PTO meeting in Vint Hill Sparks lunchroom
URL:https://st-michaelsacademy.org/event/pto-meeting-6/
LOCATION:Sparks Camups\, 6317 Vint Hill Rd\, Warrenton\, Virginia\, 20187\, United States
END:VEVENT
BEGIN:VEVENT
DTSTART;VALUE=DATE:20180219
DTEND;VALUE=DATE:20180220
DTSTAMP:20260424T132752
CREATED:20170814T030413Z
LAST-MODIFIED:20170814T030413Z
UID:1505-1518998400-1519084799@st-michaelsacademy.org
SUMMARY:Presidents' Day Holiday
DESCRIPTION:School Closed
URL:https://st-michaelsacademy.org/event/presidents-day-holiday/
END:VEVENT
BEGIN:VEVENT
DTSTART;TZID=America/New_York:20180210T183000
DTEND;TZID=America/New_York:20180210T203000
DTSTAMP:20260424T132752
CREATED:20170814T025944Z
LAST-MODIFIED:20170816T060543Z
UID:1501-1518287400-1518294600@st-michaelsacademy.org
SUMMARY:Father-Daughter Dance at Sparks campus
DESCRIPTION:Father-Daughter Dance at Sparks campus
URL:https://st-michaelsacademy.org/event/father-daughter-dance-at-sparks-campus/
LOCATION:Sparks Camups\, 6317 Vint Hill Rd\, Warrenton\, Virginia\, 20187\, United States
END:VEVENT
BEGIN:VEVENT
DTSTART;TZID=America/New_York:20180206T183000
DTEND;TZID=America/New_York:20180206T193000
DTSTAMP:20260424T132752
CREATED:20170814T025749Z
LAST-MODIFIED:20170814T030121Z
UID:1499-1517941800-1517945400@st-michaelsacademy.org
SUMMARY:PTO meeting
DESCRIPTION:Vint Hill Sparks lunchroom
URL:https://st-michaelsacademy.org/event/pto-meeting-5/
LOCATION:Sparks Camups\, 6317 Vint Hill Rd\, Warrenton\, Virginia\, 20187\, United States
END:VEVENT
BEGIN:VEVENT
DTSTART;VALUE=DATE:20180131
DTEND;VALUE=DATE:20180201
DTSTAMP:20260424T132752
CREATED:20170814T025600Z
LAST-MODIFIED:20170814T025639Z
UID:1497-1517356800-1517443199@st-michaelsacademy.org
SUMMARY:REGISTRATION 	for New Families
DESCRIPTION:REGISTRATION for New Families
URL:https://st-michaelsacademy.org/event/registration-for-new-families/
END:VEVENT
BEGIN:VEVENT
DTSTART;TZID=UTC:20180129T080000
DTEND;TZID=UTC:20180129T170000
DTSTAMP:20260424T132752
CREATED:20170814T025336Z
LAST-MODIFIED:20170814T025405Z
UID:1493-1517212800-1517245200@st-michaelsacademy.org
SUMMARY:School Closed
DESCRIPTION:School Closed for Teacher Work Day\, Pre-K4 Conferences in PM.
URL:https://st-michaelsacademy.org/event/school-closed/
END:VEVENT
BEGIN:VEVENT
DTSTART;VALUE=DATE:20180129
DTEND;VALUE=DATE:20180130
DTSTAMP:20260424T132752
CREATED:20170814T025453Z
LAST-MODIFIED:20170814T025453Z
UID:1495-1517184000-1517270399@st-michaelsacademy.org
SUMMARY:REGISTRATION for Current Families
DESCRIPTION:REGISTRATION for Current Families
URL:https://st-michaelsacademy.org/event/registration-for-current-families/
END:VEVENT
BEGIN:VEVENT
DTSTART;VALUE=DATE:20180126
DTEND;VALUE=DATE:20180127
DTSTAMP:20260424T132752
CREATED:20170814T025226Z
LAST-MODIFIED:20170814T025226Z
UID:1491-1516924800-1517011199@st-michaelsacademy.org
SUMMARY:Preschool closed for mandatory Pre-K4 conferences. Kindergarten / Elementary closed at noon for mandatory kindergarten conferences in PM. Optional Parent-Teacher conferences all other grades
DESCRIPTION:Preschool closed for mandatory Pre-K4 conferences. Kindergarten / Elementary closed at noon for mandatory kindergarten conferences in PM. Optional Parent-Teacher conferences all other grades. Child care available for St. Michael’s students only (no siblings) and only for the duration of the conference.
URL:https://st-michaelsacademy.org/event/preschool-closed-for-mandatory-pre-k4-conferences-kindergarten-elementary-closed-at-noon-for-mandatory-kindergarten-conferences-in-pm-optional-parent-teacher-conferences-all-other-grades/
END:VEVENT
END:VCALENDAR