BEGIN:VCALENDAR
VERSION:2.0
PRODID:-//St. Michael&#039;s Academy I Pre-K to Grade 5 - ECPv6.15.20//NONSGML v1.0//EN
CALSCALE:GREGORIAN
METHOD:PUBLISH
X-WR-CALNAME:St. Michael&#039;s Academy I Pre-K to Grade 5
X-ORIGINAL-URL:https://st-michaelsacademy.org
X-WR-CALDESC:Events for St. Michael&#039;s Academy I Pre-K to Grade 5
REFRESH-INTERVAL;VALUE=DURATION:PT1H
X-Robots-Tag:noindex
X-PUBLISHED-TTL:PT1H
BEGIN:VTIMEZONE
TZID:UTC
BEGIN:STANDARD
TZOFFSETFROM:+0000
TZOFFSETTO:+0000
TZNAME:UTC
DTSTART:20160101T000000
END:STANDARD
END:VTIMEZONE
BEGIN:VTIMEZONE
TZID:America/New_York
BEGIN:DAYLIGHT
TZOFFSETFROM:-0500
TZOFFSETTO:-0400
TZNAME:EDT
DTSTART:20160313T070000
END:DAYLIGHT
BEGIN:STANDARD
TZOFFSETFROM:-0400
TZOFFSETTO:-0500
TZNAME:EST
DTSTART:20161106T060000
END:STANDARD
BEGIN:DAYLIGHT
TZOFFSETFROM:-0500
TZOFFSETTO:-0400
TZNAME:EDT
DTSTART:20170312T070000
END:DAYLIGHT
BEGIN:STANDARD
TZOFFSETFROM:-0400
TZOFFSETTO:-0500
TZNAME:EST
DTSTART:20171105T060000
END:STANDARD
BEGIN:DAYLIGHT
TZOFFSETFROM:-0500
TZOFFSETTO:-0400
TZNAME:EDT
DTSTART:20180311T070000
END:DAYLIGHT
BEGIN:STANDARD
TZOFFSETFROM:-0400
TZOFFSETTO:-0500
TZNAME:EST
DTSTART:20181104T060000
END:STANDARD
BEGIN:DAYLIGHT
TZOFFSETFROM:-0500
TZOFFSETTO:-0400
TZNAME:EDT
DTSTART:20190310T070000
END:DAYLIGHT
BEGIN:STANDARD
TZOFFSETFROM:-0400
TZOFFSETTO:-0500
TZNAME:EST
DTSTART:20191103T060000
END:STANDARD
END:VTIMEZONE
BEGIN:VEVENT
DTSTART;VALUE=DATE:20180126
DTEND;VALUE=DATE:20180127
DTSTAMP:20260424T180145
CREATED:20170814T025026Z
LAST-MODIFIED:20170814T025026Z
UID:1489-1516924800-1517011199@st-michaelsacademy.org
SUMMARY:End of Second Quarter
DESCRIPTION:End of Second Quarter
URL:https://st-michaelsacademy.org/event/end-of-second-quarter/
END:VEVENT
BEGIN:VEVENT
DTSTART;TZID=UTC:20180120T100000
DTEND;TZID=UTC:20180120T130000
DTSTAMP:20260424T180145
CREATED:20170814T024900Z
LAST-MODIFIED:20170816T060332Z
UID:1487-1516442400-1516453200@st-michaelsacademy.org
SUMMARY:Open House
DESCRIPTION:Open House
URL:https://st-michaelsacademy.org/event/open-house-2/
END:VEVENT
BEGIN:VEVENT
DTSTART;VALUE=DATE:20180115
DTEND;VALUE=DATE:20180116
DTSTAMP:20260424T180145
CREATED:20170814T024656Z
LAST-MODIFIED:20170814T024746Z
UID:1485-1515974400-1516060799@st-michaelsacademy.org
SUMMARY:Martin Luther King\, Jr. Day
DESCRIPTION:School Closed
URL:https://st-michaelsacademy.org/event/martin-luther-king-jr-day/
END:VEVENT
BEGIN:VEVENT
DTSTART;TZID=UTC:20180109T183000
DTEND;TZID=UTC:20180109T193000
DTSTAMP:20260424T180145
CREATED:20170814T024615Z
LAST-MODIFIED:20170814T024615Z
UID:1483-1515522600-1515526200@st-michaelsacademy.org
SUMMARY:PTO meeting
DESCRIPTION:PTO meeting in Vint Hill Sparks lunchroom (NOTE: second Tuesday of this month)
URL:https://st-michaelsacademy.org/event/pto-meeting-4/
END:VEVENT
BEGIN:VEVENT
DTSTART;TZID=UTC:20180106T100000
DTEND;TZID=UTC:20180106T130000
DTSTAMP:20260424T180145
CREATED:20170814T024432Z
LAST-MODIFIED:20170814T024457Z
UID:1481-1515232800-1515243600@st-michaelsacademy.org
SUMMARY:Open House
DESCRIPTION:Open House
URL:https://st-michaelsacademy.org/event/open-house/
END:VEVENT
BEGIN:VEVENT
DTSTART;VALUE=DATE:20180102
DTEND;VALUE=DATE:20180103
DTSTAMP:20260424T180145
CREATED:20170814T024309Z
LAST-MODIFIED:20170814T024309Z
UID:1479-1514851200-1514937599@st-michaelsacademy.org
SUMMARY:School Reopens
DESCRIPTION:School Reopens
URL:https://st-michaelsacademy.org/event/school-reopens-2/
END:VEVENT
BEGIN:VEVENT
DTSTART;VALUE=DATE:20171222
DTEND;VALUE=DATE:20180102
DTSTAMP:20260424T180145
CREATED:20170814T024123Z
LAST-MODIFIED:20170814T024207Z
UID:1477-1513900800-1514851199@st-michaelsacademy.org
SUMMARY:Christmas Break
DESCRIPTION:School Closed! Jesus is the reason for the season 🙂
URL:https://st-michaelsacademy.org/event/christmas-break/
END:VEVENT
BEGIN:VEVENT
DTSTART;VALUE=DATE:20171211
DTEND;VALUE=DATE:20171215
DTSTAMP:20260424T180145
CREATED:20170814T023918Z
LAST-MODIFIED:20170814T023918Z
UID:1475-1512950400-1513295999@st-michaelsacademy.org
SUMMARY:Class Christmas Celebrations
DESCRIPTION:Class Christmas Celebrations – specific classes\, grades TBA
URL:https://st-michaelsacademy.org/event/class-christmas-celebrations/
END:VEVENT
BEGIN:VEVENT
DTSTART;VALUE=DATE:20171127
DTEND;VALUE=DATE:20171128
DTSTAMP:20260424T180145
CREATED:20170814T014600Z
LAST-MODIFIED:20170814T014600Z
UID:1473-1511740800-1511827199@st-michaelsacademy.org
SUMMARY:School Reopens
DESCRIPTION:School Reopens! No more Turkey 🙂
URL:https://st-michaelsacademy.org/event/school-reopens/
END:VEVENT
BEGIN:VEVENT
DTSTART;VALUE=DATE:20171122
DTEND;VALUE=DATE:20171125
DTSTAMP:20260424T180145
CREATED:20170814T014438Z
LAST-MODIFIED:20170814T014438Z
UID:1471-1511308800-1511567999@st-michaelsacademy.org
SUMMARY:Thanksgiving Break
DESCRIPTION:School Closed! Gobble Gobble 🙂
URL:https://st-michaelsacademy.org/event/thanksgiving-break/
END:VEVENT
BEGIN:VEVENT
DTSTART;VALUE=DATE:20171110
DTEND;VALUE=DATE:20171111
DTSTAMP:20260424T180145
CREATED:20170814T014115Z
LAST-MODIFIED:20170814T014115Z
UID:1467-1510272000-1510358399@st-michaelsacademy.org
SUMMARY:Veteran's Day Holiday
DESCRIPTION:School Closed!
URL:https://st-michaelsacademy.org/event/veterans-day-holiday/
END:VEVENT
BEGIN:VEVENT
DTSTART;VALUE=DATE:20171106
DTEND;VALUE=DATE:20171111
DTSTAMP:20260424T180145
CREATED:20170814T013952Z
LAST-MODIFIED:20170814T013952Z
UID:1465-1509926400-1510358399@st-michaelsacademy.org
SUMMARY:BOOK FAIR
DESCRIPTION:BOOK FAIR (Concurrent with Parent-Teacher Conferences & continuing through Friday)
URL:https://st-michaelsacademy.org/event/book-fair/
END:VEVENT
BEGIN:VEVENT
DTSTART;VALUE=DATE:20171106
DTEND;VALUE=DATE:20171108
DTSTAMP:20260424T180145
CREATED:20170814T013103Z
LAST-MODIFIED:20170814T013407Z
UID:1461-1509926400-1510099199@st-michaelsacademy.org
SUMMARY:School Closed for Teacher Work Day
DESCRIPTION:School Closed for Teacher Work Day / Mandatory Parent-Teacher conferences. Child care available for St. Michael’s students only (no siblings) and only for the duration of the conference. End of first quarter.
URL:https://st-michaelsacademy.org/event/school-closed-for-teacher-work-day/
END:VEVENT
BEGIN:VEVENT
DTSTART;VALUE=DATE:20171103
DTEND;VALUE=DATE:20171104
DTSTAMP:20260424T180145
CREATED:20170814T012720Z
LAST-MODIFIED:20170814T012749Z
UID:1458-1509667200-1509753599@st-michaelsacademy.org
SUMMARY:End of First Quarter
DESCRIPTION:End of First Quarter
URL:https://st-michaelsacademy.org/event/end-of-first-quarter/
END:VEVENT
BEGIN:VEVENT
DTSTART;TZID=America/New_York:20171030T080000
DTEND;TZID=America/New_York:20171031T170000
DTSTAMP:20260424T180145
CREATED:20170814T012012Z
LAST-MODIFIED:20170814T012051Z
UID:1456-1509350400-1509469200@st-michaelsacademy.org
SUMMARY:Fall Photos (uniform)
DESCRIPTION:Fall Photos (uniform)
URL:https://st-michaelsacademy.org/event/fall-photos-uniform/
END:VEVENT
BEGIN:VEVENT
DTSTART;VALUE=DATE:20171025
DTEND;VALUE=DATE:20171026
DTSTAMP:20260424T180145
CREATED:20170814T011724Z
LAST-MODIFIED:20170814T011825Z
UID:1454-1508889600-1508975999@st-michaelsacademy.org
SUMMARY:Fun Run
DESCRIPTION:Fun Run
URL:https://st-michaelsacademy.org/event/fun-run/
END:VEVENT
BEGIN:VEVENT
DTSTART;TZID=America/New_York:20171021T160000
DTEND;TZID=America/New_York:20171021T180000
DTSTAMP:20260424T180145
CREATED:20170814T011521Z
LAST-MODIFIED:20170814T011544Z
UID:1452-1508601600-1508608800@st-michaelsacademy.org
SUMMARY:Fall Festival – Vint Hill Sparks campus
DESCRIPTION:Fall Festival – Vint Hill Sparks campus
URL:https://st-michaelsacademy.org/event/fall-festival-vint-hill-sparks-campus/
LOCATION:Sparks Camups\, 6317 Vint Hill Rd\, Warrenton\, Virginia\, 20187\, United States
END:VEVENT
BEGIN:VEVENT
DTSTART;VALUE=DATE:20171016
DTEND;VALUE=DATE:20171017
DTSTAMP:20260424T180145
CREATED:20170814T011258Z
LAST-MODIFIED:20170814T011258Z
UID:1450-1508112000-1508198399@st-michaelsacademy.org
SUMMARY:Fun Run Pep Rally
DESCRIPTION:Fun Run Pep Rally
URL:https://st-michaelsacademy.org/event/fun-run-pep-rally/
END:VEVENT
BEGIN:VEVENT
DTSTART;VALUE=DATE:20171009
DTEND;VALUE=DATE:20171010
DTSTAMP:20260424T180145
CREATED:20170814T011058Z
LAST-MODIFIED:20170814T011058Z
UID:1448-1507507200-1507593599@st-michaelsacademy.org
SUMMARY:Columbus Day Holiday
DESCRIPTION:School Closed
URL:https://st-michaelsacademy.org/event/columbus-day-holiday/
END:VEVENT
BEGIN:VEVENT
DTSTART;VALUE=DATE:20171006
DTEND;VALUE=DATE:20171007
DTSTAMP:20260424T180145
CREATED:20170814T010909Z
LAST-MODIFIED:20170814T010909Z
UID:1446-1507248000-1507334399@st-michaelsacademy.org
SUMMARY:Pumpkin Patch field trip for PRESCHOOL ONLY
DESCRIPTION:Pumpkin Patch field trip for PRESCHOOL ONLY. Aftercare WILL be provided at Fayette St. campus beginning at 12:00 p.m. for all enrolled aftercare students (with limited staff).
URL:https://st-michaelsacademy.org/event/pumpkin-patch-field-trip-for-preschool-only/
END:VEVENT
BEGIN:VEVENT
DTSTART;TZID=America/New_York:20171003T183000
DTEND;TZID=America/New_York:20171003T193000
DTSTAMP:20260424T180145
CREATED:20170814T010721Z
LAST-MODIFIED:20170814T010955Z
UID:1444-1507055400-1507059000@st-michaelsacademy.org
SUMMARY:PTO Meeting
DESCRIPTION:Vint Hill Sparks lunchroom!
URL:https://st-michaelsacademy.org/event/pto-meeting-2/
LOCATION:Sparks Camups\, 6317 Vint Hill Rd\, Warrenton\, Virginia\, 20187\, United States
END:VEVENT
BEGIN:VEVENT
DTSTART;TZID=UTC:20170923T100000
DTEND;TZID=UTC:20170923T160000
DTSTAMP:20260424T180145
CREATED:20170814T005755Z
LAST-MODIFIED:20170814T005755Z
UID:1439-1506160800-1506182400@st-michaelsacademy.org
SUMMARY:Vint Hill Fall Festival
DESCRIPTION:Please drop by and see us!
URL:https://st-michaelsacademy.org/event/vint-hill-fall-festival/
LOCATION:Vint Hill Farms\, 6799 Kennedy Rd\, Warrenton\, VA\, 20187\, United States
END:VEVENT
BEGIN:VEVENT
DTSTART;VALUE=DATE:20170916
DTEND;VALUE=DATE:20170917
DTSTAMP:20260424T180145
CREATED:20170814T005406Z
LAST-MODIFIED:20170814T005406Z
UID:1437-1505520000-1505606399@st-michaelsacademy.org
SUMMARY:Haymarket Day
DESCRIPTION:Please drop by and see us at our tent!
URL:https://st-michaelsacademy.org/event/haymarket-day/
LOCATION:Fayette Campus\, 6735 Fayette St\, Haymarket\, VA\, 20169\, United States
END:VEVENT
BEGIN:VEVENT
DTSTART;TZID=America/New_York:20170914T190000
DTEND;TZID=America/New_York:20170914T200000
DTSTAMP:20260424T180145
CREATED:20170814T005224Z
LAST-MODIFIED:20170814T005224Z
UID:1435-1505415600-1505419200@st-michaelsacademy.org
SUMMARY:Back to School Night for Kindergarten and Elementary
DESCRIPTION:Back to School Night for Kindergarten and Elementary at Vint Hill Sparks Campus
URL:https://st-michaelsacademy.org/event/back-to-school-night-for-kindergarten-and-elementary/
LOCATION:Sparks Camups\, 6317 Vint Hill Rd\, Warrenton\, Virginia\, 20187\, United States
END:VEVENT
BEGIN:VEVENT
DTSTART;TZID=America/New_York:20170914T190000
DTEND;TZID=America/New_York:20170914T200000
DTSTAMP:20260424T180145
CREATED:20170814T004936Z
LAST-MODIFIED:20170814T004936Z
UID:1433-1505415600-1505419200@st-michaelsacademy.org
SUMMARY:Back to School Night Pre-K2
DESCRIPTION:Back to School Night Pre-K2 at Fayette St. campus
URL:https://st-michaelsacademy.org/event/back-to-school-night-pre-k2/
LOCATION:Fayette Campus\, 6735 Fayette St\, Haymarket\, VA\, 20169\, United States
END:VEVENT
BEGIN:VEVENT
DTSTART;TZID=America/New_York:20170913T190000
DTEND;TZID=America/New_York:20170913T200000
DTSTAMP:20260424T180145
CREATED:20170814T004509Z
LAST-MODIFIED:20170814T004509Z
UID:1431-1505329200-1505332800@st-michaelsacademy.org
SUMMARY:Back to School Night Pre-K4
DESCRIPTION:Pre-K4 at the Fayette St. campus and St. Paul’s Episcopal Church
URL:https://st-michaelsacademy.org/event/back-to-school-night-pre-k4/
LOCATION:Fayette Campus\, 6735 Fayette St\, Haymarket\, VA\, 20169\, United States
END:VEVENT
BEGIN:VEVENT
DTSTART;TZID=UTC:20170912T190000
DTEND;TZID=UTC:20170912T200000
DTSTAMP:20260424T180145
CREATED:20170814T004221Z
LAST-MODIFIED:20170814T004221Z
UID:1428-1505242800-1505246400@st-michaelsacademy.org
SUMMARY:Back to School Night Pre-K3
DESCRIPTION:Pre-K3 at the Fayette St. campus and St. Paul’s Episcopal Church
URL:https://st-michaelsacademy.org/event/back-to-school-night-pre-k3/
LOCATION:Fayette Campus\, 6735 Fayette St\, Haymarket\, VA\, 20169\, United States
END:VEVENT
BEGIN:VEVENT
DTSTART;TZID=UTC:20170905T183000
DTEND;TZID=UTC:20170905T193000
DTSTAMP:20260424T180145
CREATED:20170814T003611Z
LAST-MODIFIED:20170814T003611Z
UID:1425-1504636200-1504639800@st-michaelsacademy.org
SUMMARY:PTO Meeting
DESCRIPTION:Vint Hill Sparks lunchroom. See you there!
URL:https://st-michaelsacademy.org/event/pto-meeting/
LOCATION:Sparks Camups\, 6317 Vint Hill Rd\, Warrenton\, Virginia\, 20187\, United States
END:VEVENT
BEGIN:VEVENT
DTSTART;VALUE=DATE:20170904
DTEND;VALUE=DATE:20170905
DTSTAMP:20260424T180145
CREATED:20170814T003032Z
LAST-MODIFIED:20170814T003032Z
UID:1423-1504483200-1504569599@st-michaelsacademy.org
SUMMARY:Labor Day Holiday
DESCRIPTION:School closed!!
URL:https://st-michaelsacademy.org/event/labor-day-holiday/
END:VEVENT
BEGIN:VEVENT
DTSTART;VALUE=DATE:20170829
DTEND;VALUE=DATE:20170830
DTSTAMP:20260424T180145
CREATED:20170814T002829Z
LAST-MODIFIED:20170814T002914Z
UID:1420-1503964800-1504051199@st-michaelsacademy.org
SUMMARY:First Day of School
DESCRIPTION:Welcome back!! Hope you had a great summer.
URL:https://st-michaelsacademy.org/event/first-day-of-school/
END:VEVENT
END:VCALENDAR