BEGIN:VCALENDAR
VERSION:2.0
PRODID:-//St. Michael&#039;s Academy I Pre-K to Grade 5 - ECPv6.15.20//NONSGML v1.0//EN
CALSCALE:GREGORIAN
METHOD:PUBLISH
X-WR-CALNAME:St. Michael&#039;s Academy I Pre-K to Grade 5
X-ORIGINAL-URL:https://st-michaelsacademy.org
X-WR-CALDESC:Events for St. Michael&#039;s Academy I Pre-K to Grade 5
REFRESH-INTERVAL;VALUE=DURATION:PT1H
X-Robots-Tag:noindex
X-PUBLISHED-TTL:PT1H
BEGIN:VTIMEZONE
TZID:America/New_York
BEGIN:DAYLIGHT
TZOFFSETFROM:-0500
TZOFFSETTO:-0400
TZNAME:EDT
DTSTART:20180311T070000
END:DAYLIGHT
BEGIN:STANDARD
TZOFFSETFROM:-0400
TZOFFSETTO:-0500
TZNAME:EST
DTSTART:20181104T060000
END:STANDARD
BEGIN:DAYLIGHT
TZOFFSETFROM:-0500
TZOFFSETTO:-0400
TZNAME:EDT
DTSTART:20190310T070000
END:DAYLIGHT
BEGIN:STANDARD
TZOFFSETFROM:-0400
TZOFFSETTO:-0500
TZNAME:EST
DTSTART:20191103T060000
END:STANDARD
BEGIN:DAYLIGHT
TZOFFSETFROM:-0500
TZOFFSETTO:-0400
TZNAME:EDT
DTSTART:20200308T070000
END:DAYLIGHT
BEGIN:STANDARD
TZOFFSETFROM:-0400
TZOFFSETTO:-0500
TZNAME:EST
DTSTART:20201101T060000
END:STANDARD
END:VTIMEZONE
BEGIN:VEVENT
DTSTART;TZID=America/New_York:20191019T093000
DTEND;TZID=America/New_York:20191019T160000
DTSTAMP:20260424T034307
CREATED:20191007T154122Z
LAST-MODIFIED:20191007T154122Z
UID:2930-1571477400-1571500800@st-michaelsacademy.org
SUMMARY:Haymarket Day Parade
DESCRIPTION:
URL:https://st-michaelsacademy.org/event/haymarket-day-parade/
END:VEVENT
BEGIN:VEVENT
DTSTART;TZID=America/New_York:20191017T183000
DTEND;TZID=America/New_York:20191017T203000
DTSTAMP:20260424T034307
CREATED:20191007T154402Z
LAST-MODIFIED:20191007T154402Z
UID:2936-1571337000-1571344200@st-michaelsacademy.org
SUMMARY:Spirit Night! Skate n Fun Zone
DESCRIPTION:
URL:https://st-michaelsacademy.org/event/spirit-night-skate-n-fun-zone-3/
END:VEVENT
BEGIN:VEVENT
DTSTART;VALUE=DATE:20191017
DTEND;VALUE=DATE:20191018
DTSTAMP:20260424T034307
CREATED:20191007T154036Z
LAST-MODIFIED:20191007T154036Z
UID:2928-1571270400-1571356799@st-michaelsacademy.org
SUMMARY:Kindergarten Field Trip Cows N Corn!
DESCRIPTION:
URL:https://st-michaelsacademy.org/event/kindergarten-field-trip-cows-n-corn/
END:VEVENT
BEGIN:VEVENT
DTSTART;VALUE=DATE:20191014
DTEND;VALUE=DATE:20191015
DTSTAMP:20260424T034307
CREATED:20190927T155009Z
LAST-MODIFIED:20190927T155009Z
UID:2883-1571011200-1571097599@st-michaelsacademy.org
SUMMARY:Teacher Work Day - No School
DESCRIPTION:
URL:https://st-michaelsacademy.org/event/teacher-work-day-no-school/
END:VEVENT
BEGIN:VEVENT
DTSTART;TZID=America/New_York:20191011T123000
DTEND;TZID=America/New_York:20191011T123000
DTSTAMP:20260424T034307
CREATED:20190927T154942Z
LAST-MODIFIED:20190927T154942Z
UID:2881-1570797000-1570797000@st-michaelsacademy.org
SUMMARY:Half Day for Elementary Students
DESCRIPTION:
URL:https://st-michaelsacademy.org/event/half-day-for-elementary-students/
END:VEVENT
BEGIN:VEVENT
DTSTART;TZID=America/New_York:20191003T183000
DTEND;TZID=America/New_York:20191003T203000
DTSTAMP:20260424T034307
CREATED:20190927T154859Z
LAST-MODIFIED:20190927T154859Z
UID:2879-1570127400-1570134600@st-michaelsacademy.org
SUMMARY:Spirit Night- Skate N Fun Zone
DESCRIPTION:
URL:https://st-michaelsacademy.org/event/spirit-night-skate-n-fun-zone/
END:VEVENT
BEGIN:VEVENT
DTSTART;TZID=America/New_York:20191002T170000
DTEND;TZID=America/New_York:20191002T190000
DTSTAMP:20260424T034307
CREATED:20190824T130348Z
LAST-MODIFIED:20190927T154713Z
UID:2835-1570035600-1570042800@st-michaelsacademy.org
SUMMARY:BTSN- Kindergarten/Elementary (Vint Hill Campus)
DESCRIPTION:On Wednesday\, October 2nd\, we will be holding our yearly Back to School Night at our current location (6317 Vint Hill Road) followed by a tour or our new facility (6848 Johnson Drive).   Our schedule will be as follows: \n5:00pm-5:50pm:  Classroom visits with your child’s teacher (CCF) \n6:00pm-6:30pm:  Tour of our new facility (Johnson Drive- please meet at the entrance near the flagpole) \n 
URL:https://st-michaelsacademy.org/event/btsn-kindergarten-elementary-vint-hill-campus/
END:VEVENT
BEGIN:VEVENT
DTSTART;TZID=America/New_York:20191001T183000
DTEND;TZID=America/New_York:20191001T193000
DTSTAMP:20260424T034307
CREATED:20190927T154809Z
LAST-MODIFIED:20190927T154809Z
UID:2877-1569954600-1569958200@st-michaelsacademy.org
SUMMARY:PTO Meeting - Vint Hill Campus
DESCRIPTION:
URL:https://st-michaelsacademy.org/event/pto-meeting-vint-hill-campus/
END:VEVENT
BEGIN:VEVENT
DTSTART;VALUE=DATE:20190926
DTEND;VALUE=DATE:20190927
DTSTAMP:20260424T034307
CREATED:20190926T170324Z
LAST-MODIFIED:20190905T215124Z
UID:2852-1569456000-1569542399@st-michaelsacademy.org
SUMMARY:Spirit Night at Skate N Fun Zone!
DESCRIPTION:7878 Sudley Rd\, Manassas\, VA 20109 \n(703) 361-7465 \n  \n 
URL:https://st-michaelsacademy.org/event/spirit-night-at-skate-n-fun-zone-2/
END:VEVENT
BEGIN:VEVENT
DTSTART;VALUE=DATE:20190923
DTEND;VALUE=DATE:20190924
DTSTAMP:20260424T034307
CREATED:20190905T170022Z
LAST-MODIFIED:20190905T170022Z
UID:2847-1569196800-1569283199@st-michaelsacademy.org
SUMMARY:Teacher Work Day - No School - Elementary Students Only (Moving Day)
DESCRIPTION:
URL:https://st-michaelsacademy.org/event/teacher-work-day-no-school-elementary-students-only-moving-day/
END:VEVENT
BEGIN:VEVENT
DTSTART;TZID=America/New_York:20190920T123000
DTEND;TZID=America/New_York:20190920T123000
DTSTAMP:20260424T034307
CREATED:20190905T165855Z
LAST-MODIFIED:20190905T165855Z
UID:2845-1568982600-1568982600@st-michaelsacademy.org
SUMMARY:Elementary Students - Half Day School
DESCRIPTION:Dismissal at 12:30pm. No Lunches this day.
URL:https://st-michaelsacademy.org/event/elementary-students-half-day-school/
END:VEVENT
BEGIN:VEVENT
DTSTART;VALUE=DATE:20190919
DTEND;VALUE=DATE:20190920
DTSTAMP:20260424T034307
CREATED:20190905T170228Z
LAST-MODIFIED:20190905T170228Z
UID:2849-1568851200-1568937599@st-michaelsacademy.org
SUMMARY:Spirit Night at Skate N Fun Zone!
DESCRIPTION:7878 Sudley Rd\, Manassas\, VA 20109 \n(703) 361-7465 \n  \n 
URL:https://st-michaelsacademy.org/event/spirit-night-at-skate-n-fun-zone/
END:VEVENT
BEGIN:VEVENT
DTSTART;TZID=America/New_York:20190911T170000
DTEND;TZID=America/New_York:20190911T190000
DTSTAMP:20260424T034307
CREATED:20190824T130239Z
LAST-MODIFIED:20190824T130239Z
UID:2833-1568221200-1568228400@st-michaelsacademy.org
SUMMARY:BTSN- Pre-K4 (Fayette Campus)
DESCRIPTION:
URL:https://st-michaelsacademy.org/event/btsn-pre-k4-fayette-campus/
END:VEVENT
BEGIN:VEVENT
DTSTART;TZID=America/New_York:20190910T170000
DTEND;TZID=America/New_York:20190910T190000
DTSTAMP:20260424T034307
CREATED:20190824T130155Z
LAST-MODIFIED:20190824T130155Z
UID:2831-1568134800-1568142000@st-michaelsacademy.org
SUMMARY:BTSN- Jr. Pre-K and Pre-K3 (Fayette Campus)
DESCRIPTION:
URL:https://st-michaelsacademy.org/event/btsn-jr-pre-k-and-pre-k3-fayette-campus/
END:VEVENT
BEGIN:VEVENT
DTSTART;VALUE=DATE:20190902
DTEND;VALUE=DATE:20190903
DTSTAMP:20260424T034307
CREATED:20190824T130059Z
LAST-MODIFIED:20190824T130059Z
UID:2829-1567382400-1567468799@st-michaelsacademy.org
SUMMARY:Labor Day Holiday - School Closed
DESCRIPTION:
URL:https://st-michaelsacademy.org/event/labor-day-holiday-school-closed/
END:VEVENT
BEGIN:VEVENT
DTSTART;VALUE=DATE:20190830
DTEND;VALUE=DATE:20190831
DTSTAMP:20260424T034307
CREATED:20190824T125711Z
LAST-MODIFIED:20190824T125945Z
UID:2824-1567123200-1567209599@st-michaelsacademy.org
SUMMARY:School Closed
DESCRIPTION:
URL:https://st-michaelsacademy.org/event/first-day-of-school-2/
END:VEVENT
BEGIN:VEVENT
DTSTART;VALUE=DATE:20190826
DTEND;VALUE=DATE:20190827
DTSTAMP:20260424T034307
CREATED:20190824T130022Z
LAST-MODIFIED:20190824T130022Z
UID:2827-1566777600-1566863999@st-michaelsacademy.org
SUMMARY:First Day of School!
DESCRIPTION:
URL:https://st-michaelsacademy.org/event/first-day-of-school-3/
END:VEVENT
BEGIN:VEVENT
DTSTART;TZID=America/New_York:20190718T120000
DTEND;TZID=America/New_York:20190718T180000
DTSTAMP:20260424T034307
CREATED:20190715T141230Z
LAST-MODIFIED:20190715T141230Z
UID:2810-1563451200-1563472800@st-michaelsacademy.org
SUMMARY:2019-2020 School Year Packet Pick-up - Foster's Grill in Haymarket!
DESCRIPTION:It’s time to start preparing for our 2019-2020 school year and our first event is our Packet Pick-up on Thursday\, July 18th from 12:00pm-6:00pm!  Come by Foster’s Grill in Haymarket to pick up your school backpack\, school year information packet\, chat with the administration staff and support our school with a Spirit Night. Foster’s Grill in Haymarket will donate a portion of each meal purchased back to St. Michael’s Academy! Don’t worry if you are out of town or can’t make the event\, you may still pick up your backpack and packet at our preschool campus from 9:00am-3:00pm any day after July 18th.
URL:https://st-michaelsacademy.org/event/2019-2020-school-year-packet-pick-up-fosters-grill-in-haymarket/
END:VEVENT
BEGIN:VEVENT
DTSTART;VALUE=DATE:20190607
DTEND;VALUE=DATE:20190608
DTSTAMP:20260424T034307
CREATED:20190601T142536Z
LAST-MODIFIED:20190601T142934Z
UID:2804-1559865600-1559951999@st-michaelsacademy.org
SUMMARY:Last Day of School!!
DESCRIPTION:Junior Pre-K and Pre-K3 dismiss at 12:00pm\, Pre-K4 dismisses at 12:30pm\, and early dismissal for Elementary students. No aftercare.
URL:https://st-michaelsacademy.org/event/last-day-of-school-2/
END:VEVENT
BEGIN:VEVENT
DTSTART;TZID=America/New_York:20190606T180000
DTEND;TZID=America/New_York:20190606T190000
DTSTAMP:20260424T034307
CREATED:20190330T023226Z
LAST-MODIFIED:20190330T023226Z
UID:2698-1559844000-1559847600@st-michaelsacademy.org
SUMMARY:5th Grade Graduation
DESCRIPTION:
URL:https://st-michaelsacademy.org/event/5th-grade-graduation/
END:VEVENT
BEGIN:VEVENT
DTSTART;TZID=America/New_York:20190604T183000
DTEND;TZID=America/New_York:20190604T190000
DTSTAMP:20260424T034307
CREATED:20190514T144209Z
LAST-MODIFIED:20190514T144209Z
UID:2797-1559673000-1559674800@st-michaelsacademy.org
SUMMARY:Pre-K4 Graduation (Ms. Heather & Ms. Jen) - Vint Hill Campus
DESCRIPTION:
URL:https://st-michaelsacademy.org/event/pre-k4-graduation-ms-heather-ms-jen-vint-hill-campus/
END:VEVENT
BEGIN:VEVENT
DTSTART;TZID=America/New_York:20190604T173000
DTEND;TZID=America/New_York:20190604T180000
DTSTAMP:20260424T034307
CREATED:20190330T023132Z
LAST-MODIFIED:20190514T144236Z
UID:2696-1559669400-1559671200@st-michaelsacademy.org
SUMMARY:Pre-K4 Graduation (Ms. Sarah & Ms. Judi) - Vint Hill Campus
DESCRIPTION:
URL:https://st-michaelsacademy.org/event/pre-k4-graduation/
END:VEVENT
BEGIN:VEVENT
DTSTART;TZID=America/New_York:20190603T180000
DTEND;TZID=America/New_York:20190603T190000
DTSTAMP:20260424T034307
CREATED:20190330T023043Z
LAST-MODIFIED:20190330T023043Z
UID:2694-1559584800-1559588400@st-michaelsacademy.org
SUMMARY:Kindergarten Graduation
DESCRIPTION:
URL:https://st-michaelsacademy.org/event/kindergarten-graduation/
END:VEVENT
BEGIN:VEVENT
DTSTART;VALUE=DATE:20190528
DTEND;VALUE=DATE:20190529
DTSTAMP:20260424T034307
CREATED:20190520T204007Z
LAST-MODIFIED:20190520T204007Z
UID:2800-1559001600-1559087999@st-michaelsacademy.org
SUMMARY:Memorial Day - No School!
DESCRIPTION:
URL:https://st-michaelsacademy.org/event/memorial-day-no-school/
END:VEVENT
BEGIN:VEVENT
DTSTART;TZID=America/New_York:20190522T170000
DTEND;TZID=America/New_York:20190522T200000
DTSTAMP:20260424T034307
CREATED:20190330T022949Z
LAST-MODIFIED:20190330T022949Z
UID:2692-1558544400-1558555200@st-michaelsacademy.org
SUMMARY:Spirit Night - Chick-fil-A
DESCRIPTION:
URL:https://st-michaelsacademy.org/event/spirit-night-chick-fil-a/
END:VEVENT
BEGIN:VEVENT
DTSTART;VALUE=DATE:20190517
DTEND;VALUE=DATE:20190518
DTSTAMP:20260424T034307
CREATED:20190308T182103Z
LAST-MODIFIED:20190308T182120Z
UID:2639-1558051200-1558137599@st-michaelsacademy.org
SUMMARY:Field Day (Both Campuses)
DESCRIPTION:
URL:https://st-michaelsacademy.org/event/field-day-2/
END:VEVENT
BEGIN:VEVENT
DTSTART;TZID=America/New_York:20190511T133000
DTEND;TZID=America/New_York:20190511T160000
DTSTAMP:20260424T034307
CREATED:20190327T224459Z
LAST-MODIFIED:20190506T150502Z
UID:2674-1557581400-1557590400@st-michaelsacademy.org
SUMMARY:Bingo Afternoon
DESCRIPTION:It’s time for some afternoon family fun with BINGO‼️ Doors open at 1:30 for bingo card and raffle ticket sales and games are from 2:00 – 4:00! \n?15 Bingo games with prizes ranging from $10 to $50! \n?We will have over $1000 in raffle prizes!! Gift cards galore! 50/50 raffle! Special raffle for 50 inch Sharp Roku TV! Raffle tickets are available for purchase:\n$1 = 1 Ticket\n$10 = 11 Tickets\n$20 = 23 Tickets
URL:https://st-michaelsacademy.org/event/bingo-afternoon/
END:VEVENT
BEGIN:VEVENT
DTSTART;TZID=America/New_York:20190507T183000
DTEND;TZID=America/New_York:20190507T203000
DTSTAMP:20260424T034307
CREATED:20190330T022802Z
LAST-MODIFIED:20190330T022802Z
UID:2690-1557253800-1557261000@st-michaelsacademy.org
SUMMARY:PTO Meeting
DESCRIPTION:PTO meeting @ 6:30pm in Vint Hill Lunch Room.
URL:https://st-michaelsacademy.org/event/pto-meeting-9/
END:VEVENT
BEGIN:VEVENT
DTSTART;VALUE=DATE:20190507
DTEND;VALUE=DATE:20190508
DTSTAMP:20260424T034307
CREATED:20190429T140146Z
LAST-MODIFIED:20190429T140323Z
UID:2769-1557187200-1557273599@st-michaelsacademy.org
SUMMARY:Give Local Piedmont!!
DESCRIPTION:St. Michael’s Academy (SMA) is excited to announce that on Tuesday\, May 7\, 2019\, we will participate alongside over 100 other non-profit organizations in a 24-hour online giving event called Give Local Piedmont. This event helps to showcase all the wonderful non-profits in our area and offers donation matching of $100\,000.00 and cash prizes. \nWhy Participate? Every dollar donated from midnight to midnight on May 7th will be increased with additional “bonus” dollars generously provided by PATH Foundation (http://pathforyou.org). In addition\, nonprofits may qualify for Prizes\, further increasing their funding from the day. Each donation of $10 or more qualifies St. Michael’s Academy to receive prize entries. This means that your donation dollars stretch further and have a greater impact on the students at SMA! \nHow do I give? On Tuesday\, May 7th go to https://www.givelocalpiedmont.org/sma\nwhere you can choose the amount you want to donate from $10 on up. Pre-scheduled donations may be made in advance. All donations are tax deductible! Checks are also accepted but must be made out to: Northern Virginia Piedmont Community with St. Michael’s Academy written in the memo line and dropped off to the school no later than 4:00pm on Tuesday\, May 7th.
URL:https://st-michaelsacademy.org/event/give-local-piedmont/
END:VEVENT
BEGIN:VEVENT
DTSTART;TZID=America/New_York:20190506T080000
DTEND;TZID=America/New_York:20190510T170000
DTSTAMP:20260424T034307
CREATED:20190330T022635Z
LAST-MODIFIED:20190506T134325Z
UID:2688-1557129600-1557507600@st-michaelsacademy.org
SUMMARY:Teacher Appreciation Week!
DESCRIPTION:REMINDER for this week!! \n?Please join us in showing your appreciation for the teachers at our school who work so hard to instruct and inspire. Here are some ways you can express gratitude for our teachers\, assistants\, and staff members.\n?Monday\, May 6th “You Deserve a Break” – Breakfast Day\n?Tuesday\, May 7th “That’s What I Like About You” 5 Things We Love \n?Wednesday\, May 8th “You’ve Got Class” Classroom Supplies Day\n?Thursday\, May 9th “Bonus Books” Stocking up Our Classroom Libraries\n?Friday\, May 10th “Top ChoiceStudents’ Choice Day
URL:https://st-michaelsacademy.org/event/teacher-appreciation-week-2/
END:VEVENT
END:VCALENDAR